BEGIN:VCALENDAR
VERSION:2.0
PRODID:-//Permanente Medicine - ECPv6.15.14//NONSGML v1.0//EN
CALSCALE:GREGORIAN
METHOD:PUBLISH
X-ORIGINAL-URL:https://permanente.org
X-WR-CALDESC:Events for Permanente Medicine
REFRESH-INTERVAL;VALUE=DURATION:PT1H
X-Robots-Tag:noindex
X-PUBLISHED-TTL:PT1H
BEGIN:VTIMEZONE
TZID:America/Chicago
BEGIN:DAYLIGHT
TZOFFSETFROM:-0600
TZOFFSETTO:-0500
TZNAME:CDT
DTSTART:20220313T080000
END:DAYLIGHT
BEGIN:STANDARD
TZOFFSETFROM:-0500
TZOFFSETTO:-0600
TZNAME:CST
DTSTART:20221106T070000
END:STANDARD
BEGIN:DAYLIGHT
TZOFFSETFROM:-0600
TZOFFSETTO:-0500
TZNAME:CDT
DTSTART:20230312T080000
END:DAYLIGHT
BEGIN:STANDARD
TZOFFSETFROM:-0500
TZOFFSETTO:-0600
TZNAME:CST
DTSTART:20231105T070000
END:STANDARD
BEGIN:DAYLIGHT
TZOFFSETFROM:-0600
TZOFFSETTO:-0500
TZNAME:CDT
DTSTART:20240310T080000
END:DAYLIGHT
BEGIN:STANDARD
TZOFFSETFROM:-0500
TZOFFSETTO:-0600
TZNAME:CST
DTSTART:20241103T070000
END:STANDARD
END:VTIMEZONE
BEGIN:VEVENT
DTSTART;TZID=America/Chicago:20230403T080000
DTEND;TZID=America/Chicago:20230403T084000
DTSTAMP:20260420T215606
CREATED:20221111T050630Z
LAST-MODIFIED:20230324T224641Z
UID:5448-1680508800-1680511200@permanente.org
SUMMARY:Becker's Hospital Review 13th Annual Meeting: growth strategy keynote panel
DESCRIPTION:CEOs from health systems around the country discuss their growth strategies and culture at Becker’s 13th Annual Meeting. The event features keynotes and more than 250 speakers from prominent hospitals and health systems like Kaiser Permanente\, UCLA Health\, Providence\, Geisinger and Prisma Health. They’ll discuss topics such as consumerism\, the nursing workforce\, value-based care\, telehealth\, physician burnout\, payers\, health equity\, and pharmacy costs. Northwest Permanente President and CEO Leong Koh\, MD\, will speak on a keynote panel\, “The Growth Strategies and Culture of Top-Performing Health Systems.” \nSpeakers\n\nLeong Koh\, MD\, president and CEO\, Northwest Permanente\nMichael A. Slubowski\, president and CEO\, Trinity Health\nJohn Couris\, president and CEO\, Tampa General Hospital\nLiz Popwell\, chief strategy and transformation officer\, Stony Brook Medicine\nMichael Ugwueke\, president and CEO\, Methodist Le Bonheur Healthcare\nLaura Dyrda (moderator)\, vice president\, editor-in-chief\, Becker’s Healthcare
URL:https://permanente.org/event/beckers-hospital-review-13th-annual-meeting/
LOCATION:Hyatt Regency Chicago\, 151 E. Wacker Drive\, Chicago\, 60601
END:VEVENT
END:VCALENDAR