BEGIN:VCALENDAR
VERSION:2.0
PRODID:-//Permanente Medicine - ECPv6.15.14//NONSGML v1.0//EN
CALSCALE:GREGORIAN
METHOD:PUBLISH
X-WR-CALNAME:Permanente Medicine
X-ORIGINAL-URL:https://permanente.org
X-WR-CALDESC:Events for Permanente Medicine
REFRESH-INTERVAL;VALUE=DURATION:PT1H
X-Robots-Tag:noindex
X-PUBLISHED-TTL:PT1H
BEGIN:VTIMEZONE
TZID:America/Chicago
BEGIN:DAYLIGHT
TZOFFSETFROM:-0600
TZOFFSETTO:-0500
TZNAME:CDT
DTSTART:20250309T080000
END:DAYLIGHT
BEGIN:STANDARD
TZOFFSETFROM:-0500
TZOFFSETTO:-0600
TZNAME:CST
DTSTART:20251102T070000
END:STANDARD
BEGIN:DAYLIGHT
TZOFFSETFROM:-0600
TZOFFSETTO:-0500
TZNAME:CDT
DTSTART:20260308T080000
END:DAYLIGHT
BEGIN:STANDARD
TZOFFSETFROM:-0500
TZOFFSETTO:-0600
TZNAME:CST
DTSTART:20261101T070000
END:STANDARD
BEGIN:DAYLIGHT
TZOFFSETFROM:-0600
TZOFFSETTO:-0500
TZNAME:CDT
DTSTART:20270314T080000
END:DAYLIGHT
BEGIN:STANDARD
TZOFFSETFROM:-0500
TZOFFSETTO:-0600
TZNAME:CST
DTSTART:20271107T070000
END:STANDARD
END:VTIMEZONE
BEGIN:VEVENT
DTSTART;TZID=America/Chicago:20260520T080000
DTEND;TZID=America/Chicago:20260521T170000
DTSTAMP:20260419T064543
CREATED:20260415T231414Z
LAST-MODIFIED:20260416T184220Z
UID:8286-1779264000-1779382800@permanente.org
SUMMARY:Reuters Events Digital Health 2026
DESCRIPTION:Reuters Events Digital Health 2026 brings together the voices driving health care’s digital transformation\, from hospital executives and policymakers to technologists and frontline clinicians. \nEvent website \n\nFireside Chat: AI as a Bridge – Using Technology to Strengthen Doctor-Patient Connections\nMay 20\, 2026\n1:35 – 2:00 p.m. CDT \nRadisson Blu Aqua Hotel\, Chicago \n• Discover how ambient AI allows a focus on meaningful patient conversations and relationship-building\n• Learn how to implement AI thoughtfully to ensure technology serves both care teams and patients whilst ensuring ROI\n• Understand how to utilize AI tools fairly without replacing clinical judgement \nPermanente speaker\n\nNolan Chang\, MD\, Executive Vice President\, Strategy\, Corporate Development\, and Finance\, The Permanente Federation; Medical Director\, Business Management\, Southern California Permanente Medical Group\n\n  \nOther speakers\n\nHolly Tse\, CEO & Founder\, Novella Insights (Moderator)\n\n\nPanel Discussion: AI in Action: Clinical Case Studies that Deliver\nMay 20\, 2026\n2:20 – 3:05 p.m. CDT \nRadisson Blu Aqua Hotel\, Chicago \n• Analyze real-world implementations of AI that improved diagnostic precision and reduced delays\n• Learn how to replicate success by adapting AI tools to your institution’s unique data and workflow needs\n• Discover how to track performance over time to refine models and ensure sustained value \nPermanente speaker\n\nBrian Hoberman\, MD\, Executive Vice President of Information Technology\, Chief Information Officer\, The Permanente Federation; Chief Information Officer\, The Permanente Medical Group\n\n  \nOther speakers\n\nAnil Saldanha\, Chief Innovation Officer\, RUSH\nDipul Patadia\, Associate Chief Medical Officer\, Cigna\nDamon Broyles\, VP Clinical Innovation\, Mercy\nHolly Tse\, CEO & Founder\, Novella Insights (Moderator)\n\n\nPanel Discussion: Navigate Change Management via AI and Digital Solutions to Improve Organizational Adaptability\nMay 21\, 2026\n9:45 – 10:25 a.m. CDT \nRadisson Blu Aqua Hotel\, Chicago \n• Leverage AI and digital solutions that provide real-time insights\, streamline training\, and support teams during organizational changes\, ensuring smooth implementation of new technologies and workflows.\n• Enhance staff engagement through personalized\, AI-driven support that fosters clear communication\, addresses concerns\, and ensures team members feel supported and equipped to handle change.\n• Use digital tools to monitor progress\, adjust strategies as needed\, and maintain momentum during times of transformation. \nPermanente speaker\n\nNolan Chang\, MD\, Executive Vice President\, Strategy\, Corporate Development\, and Finance\, The Permanente Federation; Medical Director\, Business Management\, Southern California Permanente Medical Group\n\n  \nOther speakers\n\nBen Patel\, Chief Technology Officer\, UC Health\nErica DeBoer\, Chief Nursing Officer\, Sanford Health\nKaterina Guerraz\, Chief Operating Officer\, Aetna\nHolly Tse\, CEO & Founder\, Novella Insights (Moderator)
URL:https://permanente.org/event/reuters-events-digital-health-2026/
LOCATION:Radisson Blu Aqua Hotel\, Chicago\, Ill.
END:VEVENT
END:VCALENDAR