BEGIN:VCALENDAR
VERSION:2.0
PRODID:-//Permanente Medicine - ECPv6.15.14//NONSGML v1.0//EN
CALSCALE:GREGORIAN
METHOD:PUBLISH
X-ORIGINAL-URL:https://permanente.org
X-WR-CALDESC:Events for Permanente Medicine
REFRESH-INTERVAL;VALUE=DURATION:PT1H
X-Robots-Tag:noindex
X-PUBLISHED-TTL:PT1H
BEGIN:VTIMEZONE
TZID:America/Los_Angeles
BEGIN:DAYLIGHT
TZOFFSETFROM:-0800
TZOFFSETTO:-0700
TZNAME:PDT
DTSTART:20240310T100000
END:DAYLIGHT
BEGIN:STANDARD
TZOFFSETFROM:-0700
TZOFFSETTO:-0800
TZNAME:PST
DTSTART:20241103T090000
END:STANDARD
BEGIN:DAYLIGHT
TZOFFSETFROM:-0800
TZOFFSETTO:-0700
TZNAME:PDT
DTSTART:20250309T100000
END:DAYLIGHT
BEGIN:STANDARD
TZOFFSETFROM:-0700
TZOFFSETTO:-0800
TZNAME:PST
DTSTART:20251102T090000
END:STANDARD
BEGIN:DAYLIGHT
TZOFFSETFROM:-0800
TZOFFSETTO:-0700
TZNAME:PDT
DTSTART:20260308T100000
END:DAYLIGHT
BEGIN:STANDARD
TZOFFSETFROM:-0700
TZOFFSETTO:-0800
TZNAME:PST
DTSTART:20261101T090000
END:STANDARD
END:VTIMEZONE
BEGIN:VEVENT
DTSTART;TZID=America/Los_Angeles:20250930T080000
DTEND;TZID=America/Los_Angeles:20251003T170000
DTSTAMP:20260419T145249
CREATED:20250514T191714Z
LAST-MODIFIED:20250909T165352Z
UID:7700-1759219200-1759510800@permanente.org
SUMMARY:Becker’s Healthcare 10th Health IT + Digital Health + RCM Conference
DESCRIPTION:Becker’s Healthcare’s 10th Annual Health IT + Digital Health + RCM Conference is a 4-day event that attracts more than 2\,500 executive-level attendees. Discussions will focus on the rapid transformation underway in health care\, with technology and innovation leading the charge. Topics include: \n\nImplementing cutting-edge technologies to improve access and care\nEnhancing interoperability\nStaying ahead of cybersecurity threats\nBuilding financial resilience\n\nEvent website \n\nHospital-at-Home’s Next Chapter: Bringing Acute Care to Patients\nTuesday\, Sept. 30\n12:50 p.m. to 1:30 p.m. CST\nTrack 1 \nPermanente speaker\n\n\n\nHemali Sudhalkar MD\, MPH\, SFHM\, regional medical director of Hospital Strategic Initiatives\, Kaiser Permanenete\, NCAL\, national medical director of strategy\, Kaiser Permanente Care at Home\n\n\n\nOther speakers\n\nMichael Nassif\, MD\, medical director\, Saint Luke’s Hospital In Your Home\nHeather O’Sullivan\, APRN\, president and chief operating officer\, Healthcare at Home\, Mass General Brigham\, professor\, Mass General Hospital Institute of Health Professions\n\n\nAccess Wins: Health Systems’ Before-and-After Stories\nWednesday\, Oct. 1\n8:35 a.m. to 9:15 a.m. CST\nKeynote Panel \nPermanente speaker\n\nKristine Lee\, MD\, associate executive director\, Virtual Medicine and Technology\, Kaiser Permanente\n\nOther speakers\n\nRegina Foley\, PhD\, MBA\, RN\, executive vice president\, chief nurse executive and chief transformation and integration officer\, Hackensack Meridian Health\nJaime Mathews\, MBA\, vice president\, Patient Access and Experience\, CommonSpirit Health Physician Enterprises California\nEve Cunningham\, MD\, MBA\, chief medical officer\, Cadence\n\n\nThe Most Valuable Data Analytics Projects in the Last 12 Months\nFriday\, Oct. 3\n8:30 a.m. to 9:10 a.m. CST\nSemi-Keynote Panel \nPermanente speaker\n\nNolan Chang\, MD\, executive vice president of Strategy\, Corporate Development and Finance for The Permanente Federation; medical director\, Business Management\, Southern California Permanente Medical Group\n\nOther speakers\n\nShakeeb Akhter\, CHCIO\, CDH-E\, SVP\, chief digital & information officer\, Children’s Hospital of Philadelphia\nSameer Sethi\, senior vice president and chief data and analytics officer\, Hackensack Meridian Health\nVinay Vaidya\, MD\, chief medical information officer\, Phoenix Children’s
URL:https://permanente.org/event/beckers-healthcare-10th-health-it-digital-health-rcm-conference/
LOCATION:Hyatt Regency Chicago\, 151 E. Wacker Drive\, Chicago\, 60601
END:VEVENT
BEGIN:VEVENT
DTSTART;TZID=America/Los_Angeles:20251009T070000
DTEND;TZID=America/Los_Angeles:20251009T080000
DTSTAMP:20260419T145249
CREATED:20250918T225020Z
LAST-MODIFIED:20250918T225020Z
UID:7943-1759993200-1759996800@permanente.org
SUMMARY:Value-based Care Virtual Briefing
DESCRIPTION:The insurance market is constantly evolving as payers continue to re-design their payment models for value. In this virtual event\, Modern Healthcare Content Studio hosts experts at the forefront of the latest shifts in the payer market and explores how providers can maximize reimbursement\, improve patient outcomes\, and find success in value-based payment models. \nEvent website \n\nSession 1: Innovation in Action: How Value-Based Care is Transforming Delivery Models\nThursday\, October 9\, 2025\n7:00 a.m. PT \nAs the health care industry continues its shift from volume to value\, forward-thinking organizations are using value-based care as a launchpad for innovation. In this dynamic session\, health care leaders will explore how: \n\nValue-based models are driving transformative change across the care continuum\, from integrating advanced analytics to rethinking care team structures and patient engagement strategies.\nProvider-payer collaboration\, technology\, and redesigned care pathways are creating scalable models that improve outcomes and reduce costs.\n\n  \nPermanente speaker\n\nStephen Parodi\, MD\, executive vice president\, External Affairs\, Communications\, and Brand\, The Permanente Federation; executive vice president\, External Affairs and Corporate Development and associate executive director\, The Permanente Medical Group\n\n  \nOther speakers\n\nStuart Baker\, MD\, chief physician executive\, Navvis\nAmol Bhalla\, MD\, chief clinical informaticist\, IMO Health\nMaria Castellucci\, deputy editor\, Modern Healthcare Content Studio (moderator)
URL:https://permanente.org/event/value-based-care-virtual-briefing/
LOCATION:Virtual Event
END:VEVENT
BEGIN:VEVENT
DTSTART;TZID=America/Los_Angeles:20251016T093000
DTEND;TZID=America/Los_Angeles:20251016T223000
DTSTAMP:20260419T145249
CREATED:20251003T193052Z
LAST-MODIFIED:20251003T204939Z
UID:7980-1760607000-1760653800@permanente.org
SUMMARY:Connected Health 2025
DESCRIPTION:  \nConnected health technologies\, like telehealth\, remote patient monitoring and digital therapeutics solutions\, are advancing rapidly. With a wide range of options available\, health care providers and payers must sift through the hype and find the connected health tools and models that work best for their patient population. \nAt this event\, attendees will hear from health care industry leaders about how they are navigating the world of connected health care. They will learn about strategies for successfully implementing connected health technologies into clinical care\, with a focus on sustainability\, scalability and equity. They will also gain insights into how leaders are assessing connected health care’s ROI. \nEvent website \n\nSession: Scaling Digital Health Pilots with ROI in Mind\nThursday\, October 16\, 2025\n9:30 a.m. – 10:15 a.m. PT \nDigital health pilots are essential in helping health care organizations discern between different connected health tools and models to decide which is best for their needs. However\, deciding when and how to move from a pilot to broader scale implementation presents numerous challenges and can contribute to pilot fatigue. In this session\, you will: \n\nLearn about best practices for turning small-scale pilots into sustainable\, high-value programs\nDiscover strategies for addressing common obstacles that prevent successful pilots from scaling\nUnderstand evaluation methodologies to assess digital health pilots’ ROI and potential for scaling\n\n  \nPermanente speaker\n\nKhang Nguyen\, MD\, chief medical officer for Care Navigation\, The Permanente Federation\n\nOther speakers\n\nMichelle Stansbury\, associate chief innovation officer & VP of IT\, Houston Methodist\nMeg Barron\, MBA\, managing director\, Engagement & Outreach\, Peterson Health Technology Institute\n\n\n 
URL:https://permanente.org/event/connected-health-2025/
LOCATION:Virtual Event
END:VEVENT
BEGIN:VEVENT
DTSTART;TZID=America/Los_Angeles:20251019T132000
DTEND;TZID=America/Los_Angeles:20251019T140000
DTSTAMP:20260419T145249
CREATED:20250929T193843Z
LAST-MODIFIED:20250929T194203Z
UID:7968-1760880000-1760882400@permanente.org
SUMMARY:HLTH USA 2025
DESCRIPTION:HLTH USA is the preeminent event for health care and wellness innovation\, pushing boundaries to transform the next decade of health. \nEvent website \n\nPanel: The Golden Wave\nSunday\, October 19\, 2025\n1:20 – 2 p.m. PT \n10\,000 Americans hit 65 every single day\, and our health care infrastructure is scrambling to figure out how to care for a population that’s living longer but often with multiple chronic conditions that require complex\, coordinated care. We don’t just need enough hospital beds and primary care doctors to address this challenge — we also need to reimagine how we deliver health care when traditional models weren’t designed for patients who might need decades of care for simultaneous conditions\, like diabetes and dementia. \nThis discussion will explore: \n\nChallenges including:\n\nThe need for specialized geriatric care despite a shortage of geriatricians\nThe need for integrated coordination in fragmented systems\nThe need to keep seniors healthy at home even when many lack support or tech literacy.\n\n\nSolutions including:\n\nThe emergence of innovative partnerships between health systems\, tech companies\, and community organizations to create new models of care that blend telehealth\, social services\, and AI-powered monitoring to keep aging populations healthier for longer.\n\n\nA central question: How quickly can we innovate our way out of a crisis that’s already here?\n\n  \nPermanente speaker\n\nMaria Ansari\, MD\, FACC\, co-CEO\, The Permanente Federation; CEO and executive director\, The Permanente Medical Group; president and CEO\, Mid-Atlantic Permanente Medical Group; CEO\, Northwest Permanente\n\nOther speakers\n\nBrigham Hyde\, PhD\, CEO\, co-founder Atropos Health\nJeron Ravin\, J.D.\, MHL\, president & CEO\, Swope Health Services\nTracy Saula\, SVP\, chief product & experience officer\, Highmark Health\nLauren Dunning\, JD\, MPH\, director\, Milken Institute Center for the Future of Aging (Moderator)\n\n 
URL:https://permanente.org/event/hlth_usa_2025/
LOCATION:The Venetian Convention and Expo Center\, 201 Sands Avenue\, Las Vegas\, NV\, 89109\, United States
END:VEVENT
BEGIN:VEVENT
DTSTART;TZID=America/Los_Angeles:20251028T073000
DTEND;TZID=America/Los_Angeles:20251028T081000
DTSTAMP:20260419T145249
CREATED:20250627T230135Z
LAST-MODIFIED:20251001T170759Z
UID:7807-1761636600-1761639000@permanente.org
SUMMARY:Reuters Events: Total Health USA
DESCRIPTION:  \nMore than 400 senior-level health care leaders will gather for this 2-day event to discuss current challenges\, including escalating costs and regulatory uncertainties\, which threaten to compromise quality of care and the long-term future of health systems. Discussions will focus on strategies to enhance workforce resilience\, adopt emerging technologies\, and embrace value-based operating principles to develop a model that can withstand the financial and systemic pressures of the years to come. \nEvent website \n\nExecutive panel discussion: Future-Proofing Healthcare: The Path to Value-Based Systems of Care\nMonday\, October 28\n7:30 a.m. – 8:10 a.m. PDT \nJoin us for an in-depth discussion among senior health care leaders about how to transform your health system with value-based care models. This panel will: \n\nDiscuss the importance of collaboration between health care providers\, payers\, and patients in delivering value-based care\nExplore innovative care models that prioritize patient outcomes and cost-effectiveness\nShare experiences from organizations that have successfully implemented collaborative care strategies to enhance patient engagement and satisfaction.\n\nPermanente speaker\n\nStephen Parodi\, MD\, Executive Vice President\, External Affairs\, Communications\, and Brand\, The Permanente Federation; Executive Vice President\, External Affairs and Corporate Development; Associate Executive Director\, The Permanente Medical Group\n\nOther speakers\n\nEric Gallagher\, CEO\, Ochsner Health Network\n\n\nKeynote Fireside Chat: Leading Through Uncertainty in Healthcare\nTuesday\, October 29\n8:40 a.m. – 9:00 a.m. PDT \nIn today’s dynamic health care landscape\, visionary leadership is essential for guiding teams through complexity and change. Join this discussion by the co-CEOs of The Permanente Federation as they: \n\nShare examples of challenging events that drove innovative approaches to leadership.\nExplore strategies to keep physicians\, clinicians and staff engaged to help navigate unprecedented challenges and uncertainty.\nDiscuss leadership’s role in cultivating a supportive and resilient work culture amid turbulence.\n\nPermanente speaker\n\nRamin Davidoff\, MD\, Co-CEO\, The Permanente Federation\n\n 
URL:https://permanente.org/event/reuters-events-total-health-usa/
LOCATION:Radisson Blu Aqua Hotel\, Chicago\, Ill.
END:VEVENT
END:VCALENDAR