BEGIN:VCALENDAR
VERSION:2.0
PRODID:-//Permanente Medicine - ECPv6.15.14//NONSGML v1.0//EN
CALSCALE:GREGORIAN
METHOD:PUBLISH
X-ORIGINAL-URL:https://permanente.org
X-WR-CALDESC:Events for Permanente Medicine
REFRESH-INTERVAL;VALUE=DURATION:PT1H
X-Robots-Tag:noindex
X-PUBLISHED-TTL:PT1H
BEGIN:VTIMEZONE
TZID:America/Los_Angeles
BEGIN:DAYLIGHT
TZOFFSETFROM:-0800
TZOFFSETTO:-0700
TZNAME:PDT
DTSTART:20240310T100000
END:DAYLIGHT
BEGIN:STANDARD
TZOFFSETFROM:-0700
TZOFFSETTO:-0800
TZNAME:PST
DTSTART:20241103T090000
END:STANDARD
BEGIN:DAYLIGHT
TZOFFSETFROM:-0800
TZOFFSETTO:-0700
TZNAME:PDT
DTSTART:20250309T100000
END:DAYLIGHT
BEGIN:STANDARD
TZOFFSETFROM:-0700
TZOFFSETTO:-0800
TZNAME:PST
DTSTART:20251102T090000
END:STANDARD
BEGIN:DAYLIGHT
TZOFFSETFROM:-0800
TZOFFSETTO:-0700
TZNAME:PDT
DTSTART:20260308T100000
END:DAYLIGHT
BEGIN:STANDARD
TZOFFSETFROM:-0700
TZOFFSETTO:-0800
TZNAME:PST
DTSTART:20261101T090000
END:STANDARD
END:VTIMEZONE
BEGIN:VEVENT
DTSTART;TZID=America/Los_Angeles:20250930T080000
DTEND;TZID=America/Los_Angeles:20251003T170000
DTSTAMP:20260419T163230
CREATED:20250514T191714Z
LAST-MODIFIED:20250909T165352Z
UID:7700-1759219200-1759510800@permanente.org
SUMMARY:Becker’s Healthcare 10th Health IT + Digital Health + RCM Conference
DESCRIPTION:Becker’s Healthcare’s 10th Annual Health IT + Digital Health + RCM Conference is a 4-day event that attracts more than 2\,500 executive-level attendees. Discussions will focus on the rapid transformation underway in health care\, with technology and innovation leading the charge. Topics include: \n\nImplementing cutting-edge technologies to improve access and care\nEnhancing interoperability\nStaying ahead of cybersecurity threats\nBuilding financial resilience\n\nEvent website \n\nHospital-at-Home’s Next Chapter: Bringing Acute Care to Patients\nTuesday\, Sept. 30\n12:50 p.m. to 1:30 p.m. CST\nTrack 1 \nPermanente speaker\n\n\n\nHemali Sudhalkar MD\, MPH\, SFHM\, regional medical director of Hospital Strategic Initiatives\, Kaiser Permanenete\, NCAL\, national medical director of strategy\, Kaiser Permanente Care at Home\n\n\n\nOther speakers\n\nMichael Nassif\, MD\, medical director\, Saint Luke’s Hospital In Your Home\nHeather O’Sullivan\, APRN\, president and chief operating officer\, Healthcare at Home\, Mass General Brigham\, professor\, Mass General Hospital Institute of Health Professions\n\n\nAccess Wins: Health Systems’ Before-and-After Stories\nWednesday\, Oct. 1\n8:35 a.m. to 9:15 a.m. CST\nKeynote Panel \nPermanente speaker\n\nKristine Lee\, MD\, associate executive director\, Virtual Medicine and Technology\, Kaiser Permanente\n\nOther speakers\n\nRegina Foley\, PhD\, MBA\, RN\, executive vice president\, chief nurse executive and chief transformation and integration officer\, Hackensack Meridian Health\nJaime Mathews\, MBA\, vice president\, Patient Access and Experience\, CommonSpirit Health Physician Enterprises California\nEve Cunningham\, MD\, MBA\, chief medical officer\, Cadence\n\n\nThe Most Valuable Data Analytics Projects in the Last 12 Months\nFriday\, Oct. 3\n8:30 a.m. to 9:10 a.m. CST\nSemi-Keynote Panel \nPermanente speaker\n\nNolan Chang\, MD\, executive vice president of Strategy\, Corporate Development and Finance for The Permanente Federation; medical director\, Business Management\, Southern California Permanente Medical Group\n\nOther speakers\n\nShakeeb Akhter\, CHCIO\, CDH-E\, SVP\, chief digital & information officer\, Children’s Hospital of Philadelphia\nSameer Sethi\, senior vice president and chief data and analytics officer\, Hackensack Meridian Health\nVinay Vaidya\, MD\, chief medical information officer\, Phoenix Children’s
URL:https://permanente.org/event/beckers-healthcare-10th-health-it-digital-health-rcm-conference/
LOCATION:Hyatt Regency Chicago\, 151 E. Wacker Drive\, Chicago\, 60601
END:VEVENT
END:VCALENDAR