BEGIN:VCALENDAR
VERSION:2.0
PRODID:-//Permanente Medicine - ECPv6.15.14//NONSGML v1.0//EN
CALSCALE:GREGORIAN
METHOD:PUBLISH
X-ORIGINAL-URL:https://permanente.org
X-WR-CALDESC:Events for Permanente Medicine
REFRESH-INTERVAL;VALUE=DURATION:PT1H
X-Robots-Tag:noindex
X-PUBLISHED-TTL:PT1H
BEGIN:VTIMEZONE
TZID:America/Los_Angeles
BEGIN:DAYLIGHT
TZOFFSETFROM:-0800
TZOFFSETTO:-0700
TZNAME:PDT
DTSTART:20240310T100000
END:DAYLIGHT
BEGIN:STANDARD
TZOFFSETFROM:-0700
TZOFFSETTO:-0800
TZNAME:PST
DTSTART:20241103T090000
END:STANDARD
BEGIN:DAYLIGHT
TZOFFSETFROM:-0800
TZOFFSETTO:-0700
TZNAME:PDT
DTSTART:20250309T100000
END:DAYLIGHT
BEGIN:STANDARD
TZOFFSETFROM:-0700
TZOFFSETTO:-0800
TZNAME:PST
DTSTART:20251102T090000
END:STANDARD
BEGIN:DAYLIGHT
TZOFFSETFROM:-0800
TZOFFSETTO:-0700
TZNAME:PDT
DTSTART:20260308T100000
END:DAYLIGHT
BEGIN:STANDARD
TZOFFSETFROM:-0700
TZOFFSETTO:-0800
TZNAME:PST
DTSTART:20261101T090000
END:STANDARD
END:VTIMEZONE
BEGIN:VEVENT
DTSTART;TZID=America/Los_Angeles:20250701T093000
DTEND;TZID=America/Los_Angeles:20250701T223000
DTSTAMP:20260419T194633
CREATED:20250612T140745Z
LAST-MODIFIED:20250623T195129Z
UID:7774-1751362200-1751409000@permanente.org
SUMMARY:Permanente Live webinar — Finding success in value-based care
DESCRIPTION:Register \nThe pursuit of value-based care has long been a clarion call for strengthening the American health care system. But there is still much to be learned about how and why it benefits patients and health care systems. Join us for a candid\, strategic conversation with national health care leaders as they share best practices from proven value-based care models and leadership insights to help health systems\, physician groups\, and health plans navigate this critical transformation. \nYou’ll learn: \n\nHow Permanente leaders are balancing financial sustainability while advancing value-based care in an era of policy and payment disruption\nLessons from community health plans successfully managing high-needs populations in a value-based environment\nInnovative\, transitional models of value-based care in action\n\nFeatured speakers:\n\nCeci Connolly\, president and CEO\, Alliance of Community Health Plans\nNolan Chang\, MD\, EVP of Strategy\, Corporate Development\, and Finance\, The Permanente Federation\nStephen Parodi\, MD\, EVP of External Affairs\, Communications\, and Brand\, The Permanente Federation (Host)\n\nWhen: July 1\, 2025\, Tuesday\nTime: 9:30 a.m. PT\nLocation: Virtual via Zoom\nCost: Complimentary \nRegister
URL:https://permanente.org/event/permanente-live-webinar-finding-success-in-value-based-care/
LOCATION:Virtual Event via Zoom
ATTACH;FMTTYPE=image/jpeg:https://permanente.org/wp-content/uploads/2025/06/Webinar-Finding-success-in-value-based-care-1.jpg
END:VEVENT
BEGIN:VEVENT
DTSTART;TZID=America/Los_Angeles:20250715T155000
DTEND;TZID=America/Los_Angeles:20250715T173000
DTSTAMP:20260419T194633
CREATED:20250513T222044Z
LAST-MODIFIED:20250513T222044Z
UID:7695-1752594600-1752600600@permanente.org
SUMMARY:Momentum AI San Jose 2025
DESCRIPTION:Momentum AI is a two-day conference exploring how AI can improve the way large companies operate and deliver products and services. \nUniting an audience of enterprise technology and data leaders from some of the largest organizations in the world\, Momentum AI will equip you with everything you could possibly need to benchmark\, evaluate\, deploy\, and scale AI in your business. \nThrough pan-industry panel discussions\, real world case studies\, and an array of interactive breakout sessions\, it’s the only place in 2025 where you will uncover transformative AI advancements in every major industry and immerse yourself in the transformative journeys of C-suite visionaries from Fortune 500 businesses. Nowhere else next year will you be able to collaborate and network with so many exciting enterprise technologists to reimagine your products and services with AI at their center. \nEvent website \nPanel: The Responsible AI Imperative: Unlocking Robust Data Governance & Risk Mitigation Strategies \nEnsuring the responsible deployment of AI in business is imperative to ensure accurate\, ethical and beneficial outcomes. It’s critical to prioritize transparency\, fairness\, privacy\, and accountability throughout the lifecycle of AI systems.  \n\n Understand the importance of transparency in disclosing AI usage and providing explanations for AI-based decisions\n Hear how to conduct rigorous bias assessments to ensure fairness and mitigate the risks of delivering skewed outcomes\n Find out how to leverage robust data governance practices to enhance the accuracy\, reliability\, and completeness of insights from your AI deployment\n\nJuly 15\, 2025\n3:50 to 4:30 p.m. PT\nMain Stage \nPermanente speaker\n\nVincent Liu\, MD\, MS\, chief data officer\, The Permanente Medical Group\n\n  \nOther speakers\n\nProfessor Steve Smith\, president\, Association for the Advancement of AI (Moderator)\nRajesh Naidu\, chief architect\, Expedia Group\nTodd Inlander\, chief information officer\, Southern California Electric Company\n\n\nRoundtable: Developing patient-centric AI in Healthcare with The Permanente Medical Group\nAn industry and function specific roundtable that offers intimate\, contextualized learning with peers facing the same challenges as you. This roundtable will be led by Vincent Liu\, MD\, MS\, chief data officer of The Permanente Medical Group\, and there will be dedicated group feedback at the end of the session. \nJuly 15\, 2025\n4:30 to 5:30 p.m. PT\nNetworking Floor \nPermanente speaker\n\nVincent Liu\, MD\, MS\, chief data officer\, The Permanente Medical Group\n\n\n 
URL:https://permanente.org/event/momentum-ai-san-jose-2025/
LOCATION:Signia by Hilton San Jose
END:VEVENT
END:VCALENDAR