BEGIN:VCALENDAR
VERSION:2.0
PRODID:-//Permanente Medicine - ECPv6.15.14//NONSGML v1.0//EN
CALSCALE:GREGORIAN
METHOD:PUBLISH
X-WR-CALNAME:Permanente Medicine
X-ORIGINAL-URL:https://permanente.org
X-WR-CALDESC:Events for Permanente Medicine
REFRESH-INTERVAL;VALUE=DURATION:PT1H
X-Robots-Tag:noindex
X-PUBLISHED-TTL:PT1H
BEGIN:VTIMEZONE
TZID:America/Los_Angeles
BEGIN:DAYLIGHT
TZOFFSETFROM:-0800
TZOFFSETTO:-0700
TZNAME:PDT
DTSTART:20240310T100000
END:DAYLIGHT
BEGIN:STANDARD
TZOFFSETFROM:-0700
TZOFFSETTO:-0800
TZNAME:PST
DTSTART:20241103T090000
END:STANDARD
BEGIN:DAYLIGHT
TZOFFSETFROM:-0800
TZOFFSETTO:-0700
TZNAME:PDT
DTSTART:20250309T100000
END:DAYLIGHT
BEGIN:STANDARD
TZOFFSETFROM:-0700
TZOFFSETTO:-0800
TZNAME:PST
DTSTART:20251102T090000
END:STANDARD
BEGIN:DAYLIGHT
TZOFFSETFROM:-0800
TZOFFSETTO:-0700
TZNAME:PDT
DTSTART:20260308T100000
END:DAYLIGHT
BEGIN:STANDARD
TZOFFSETFROM:-0700
TZOFFSETTO:-0800
TZNAME:PST
DTSTART:20261101T090000
END:STANDARD
END:VTIMEZONE
BEGIN:VEVENT
DTSTART;TZID=America/Los_Angeles:20250508T080000
DTEND;TZID=America/Los_Angeles:20250508T111500
DTSTAMP:20260419T225209
CREATED:20250423T173821Z
LAST-MODIFIED:20250423T173937Z
UID:7663-1746691200-1746702900@permanente.org
SUMMARY:24th National Population Health Colloquium
DESCRIPTION:The Population Health Colloquium is a premier event for influential leaders in health care transformation. Learn business solutions from top health ecosystem leaders and explore innovative approaches. Stephen Parodi\, MD\, will join the panel “Achieving Integrated Care: Health Plans\, Health Systems\, and Medical Groups” to share insights from Permanente Medicine. \nEvent website \nPermanente speakers\n\nStephen Parodi\, MD\, executive vice president\, External Affairs\, Communications and Brand\, The Permanente Federation and The Permanente Medical Group\n\n  \nOther speakers\n\nNancy Beran\, MD\, MHCDS\, FACP\, chief quality officer for Ambulatory\, Northwell Health\nBaligh Yehia\, MD\, MPP\, MSc\, president\, Jefferson Health\nJerry Penso\, MD\, MBA\, president and chief executive officer\, American Medical Group Association (moderator)
URL:https://permanente.org/event/24th-national-population-health-colloquium/
LOCATION:Thomas Jefferson University\, Thomas Jefferson University Philadelphia\, Philadelphia\, PA\, United States
END:VEVENT
BEGIN:VEVENT
DTSTART;TZID=America/Los_Angeles:20250514T120000
DTEND;TZID=America/Los_Angeles:20250515T163000
DTSTAMP:20260419T225209
CREATED:20250514T001620Z
LAST-MODIFIED:20250514T001620Z
UID:7698-1747224000-1747326600@permanente.org
SUMMARY:APG Spring Conference 2025 – Kickstarting Accountable Care: Innovations for an Urgent Future
DESCRIPTION:Now more than ever\, the nation both needs and demands accountability for the growing costs and uneven quality of health care. But the public also wants\, and deserves\, transparency about how health care decisions are made. \nThe members of America’s Physician Groups (APG) have led the way for decades in the drive for accountable health care\, and it’s time to kickstart the groups’ efforts to a new level. In this conference\, leaders from the nation’s top clinically integrated\, coordinated\, value-based health care systems discuss how best to achieve a bold new set of accountability goals. \nEvent website \nHow Accountable Care Providers are Addressing Whole-Person Health\nMay 14\, 2025\n12:00 p.m. to 1:45 p.m. PT \nPermanente speakers\n\nMichael Mason\, MD\, regional medical director of Geriatrics\, Continuing Care\, and Complex Needs\, The Permanente Medical Group\nJoanna Mroz\, senior director of Strategy and Business Development\, The Permanente Medical Group\n\nOther speakers\n\nSusan Huang\, MD\, chief medical officer\, America’s Physician Groups (moderator)\nMarc Rosen\, MPH\, system director\, Community Impact and Partnerships\, CommonSpirit Health\nLuzMarina Tejada MN\, CCM\, RN\, director\, ACO Care Coordination\, Rainier Health Network\nTheo Latta\, director of Indigenous Health Equity\, Oregon Health and Science University Integrated Delivery System Katrina McPherson\, MD\, chief medical officer\, Oregon Health and Science University Integrated Delivery System\nElizabeth Davis\, MD\, associate chief medical officer\, Community Health Equity\, Rush Health\nWalter Rosenberg\, MSW\, MS-HSM\, LCSW\, director of Social Work & Community Health\, Rush Health\n\n\nHow APG Groups in Full Risk Arrangements in MA Deliver Superior Outcomes for Patients\nMay 15\, 2025\n1:30 p.m. to 2:45 p.m. PT \nPermanente speaker\n\nColin Cave\, MD\, director of External Affairs\, GR and Community Health\, Northwest Permanente\n\nOther speakers\n\nKen Cohen\, MD\, executive director of Translational Research\, Optum\nCaroline Goldzweig\, vice president and chief medical officer\, Cedars-Sinai Medical Care Foundation/Medical Network (CSMN)\nDavid Joyner\, chief executive officer\, Hill Physicians Medical Group\nSam Skootsky\, MD\, chief medical officer\, UCLA Faculty Practice Group and Medical Group\n\n\nInnovations to Kickstart Accountable Care\nMay 15\, 2025\n1:30 p.m. to 2:45 p.m. PT \nPermanente speakers\n\nSmita Rouillard\, MD\, associate executive director for Surgical Services\, The Permanente Medical Group\nHemant Keny\, MD\, regional lead for Surgical Quality and Safety\, The Permanente Medical Group\n\nOther speakers\n\nDiana Gelston\, chief commercial officer\, Best Buy Health for Best Buy Co. Inc.\nKamshad Raiszadeh\, MD\, chief medical officer\, Livara Health\nAarti Surti\, MD\, medical director\, Specialty Care Programs\, One Medical\nDanny Metger-Traber\, vice president of Strategic Business Operations\, Healthcare at Home\, Mass General Brigham\n\n\nValue-Based Care in Emergencies: Lessons from the Frontline\nMay 15\, 2025\n3:00 p.m. to 4:15 p.m. PT \nPermanente speaker\n\n\n\nChristopher Subject\, MD\, assistant regional medical director\, Southern California Permanente Medical Group\n\n\n\nOther speakers\n\nJennifer Podulka\, MPA\, senior vice president of Federal Policy\, America’s Physician Groups (moderator)\nRaul Montalvo\, MD\, president\, MSO of Puerto Rico\, LLC\nRamapriya Suresh\, MD\, MBA\, regional medical executive-West Region\, CareAllies\n\n\n 
URL:https://permanente.org/event/apg-spring-conference-2025-kickstarting-accountable-care-innovations-for-an-urgent-future/
LOCATION:Marriott Marquis San Diego Marina\, 333 W. Harbor Drive\, San Diego\, CA\, 92101\, United States
END:VEVENT
BEGIN:VEVENT
DTSTART;TZID=America/Los_Angeles:20250530T144500
DTEND;TZID=America/Los_Angeles:20250530T160000
DTSTAMP:20260419T225209
CREATED:20250513T020005Z
LAST-MODIFIED:20250522T161859Z
UID:7689-1748616300-1748620800@permanente.org
SUMMARY:Health Journalism 2025
DESCRIPTION:A gathering of journalists\, health care professionals\, policymakers and experts addressing the pressing challenges and opportunities shaping health care and journalism today. Featuring keynote speakers\, hands-on workshops\, panel discussions\, field trips\, and networking opportunities. \nEvent website \nPanel: When the patient ward is your living room\nAdvances in technology have led to several health systems providing hospital-level care in patients’ homes\, allowing them to recuperate from surgery or various illnesses in familiar surroundings. Vital sign information is transmitted wirelessly through devices such as remote blood pressure monitoring cuffs\, and patients participate in virtual visits with their care teams. Similar programs are being employed as preventive care for some patient populations with conditions like diabetes and high blood pressure to avoid hospitalizations. In this panel\, experts will discuss how their at-home programs work\, what’s trending\, and what we can expect in the future. \nFriday\, May 30\n2:45 to 4:00 p.m. PT\nImperial E&F \nPermanente speakers\n\nVivian Reyes\, MD\, associate executive director\, Hospital Operations and Quality\, Inpatient Care Experience\, Continuing Care\, Supportive Care Services\, Senior Care Strategy\, The Permanente Medical Group\n\nOther speakers\n\n\n\nKaren Blum\, Independent Journalist (Moderator)\nBrad Spellberg\, chief medical officer\, Los Angeles General Medical Center\nChad R. Nelson\, physician\, Mayo Clinic Arizona
URL:https://permanente.org/event/health-journalism-2025/
LOCATION:Los Angeles Airport Marriott
END:VEVENT
END:VCALENDAR