BEGIN:VCALENDAR
VERSION:2.0
PRODID:-//Permanente Medicine - ECPv6.15.14//NONSGML v1.0//EN
CALSCALE:GREGORIAN
METHOD:PUBLISH
X-ORIGINAL-URL:https://permanente.org
X-WR-CALDESC:Events for Permanente Medicine
REFRESH-INTERVAL;VALUE=DURATION:PT1H
X-Robots-Tag:noindex
X-PUBLISHED-TTL:PT1H
BEGIN:VTIMEZONE
TZID:America/Los_Angeles
BEGIN:DAYLIGHT
TZOFFSETFROM:-0800
TZOFFSETTO:-0700
TZNAME:PDT
DTSTART:20240310T100000
END:DAYLIGHT
BEGIN:STANDARD
TZOFFSETFROM:-0700
TZOFFSETTO:-0800
TZNAME:PST
DTSTART:20241103T090000
END:STANDARD
BEGIN:DAYLIGHT
TZOFFSETFROM:-0800
TZOFFSETTO:-0700
TZNAME:PDT
DTSTART:20250309T100000
END:DAYLIGHT
BEGIN:STANDARD
TZOFFSETFROM:-0700
TZOFFSETTO:-0800
TZNAME:PST
DTSTART:20251102T090000
END:STANDARD
BEGIN:DAYLIGHT
TZOFFSETFROM:-0800
TZOFFSETTO:-0700
TZNAME:PDT
DTSTART:20260308T100000
END:DAYLIGHT
BEGIN:STANDARD
TZOFFSETFROM:-0700
TZOFFSETTO:-0800
TZNAME:PST
DTSTART:20261101T090000
END:STANDARD
END:VTIMEZONE
BEGIN:VEVENT
DTSTART;TZID=America/Los_Angeles:20250217T080000
DTEND;TZID=America/Los_Angeles:20250217T110000
DTSTAMP:20260420T035231
CREATED:20250115T195437Z
LAST-MODIFIED:20250130T212638Z
UID:7425-1739779200-1739790000@permanente.org
SUMMARY:ViVE 2025
DESCRIPTION:ViVE attracts a who’s who of the digital health technology world and focuses on effective networking\, providing market insights and maximizing ROI for participants. \nPermanente physician leaders will participate in the following panels: \nPanel\nOoh I Want Care to be There in My City\nFebruary 17\, 10 a.m. CST\nRock-N-Roll Stage \nVirtual care has become essential\, providing access to communities with limited medical resources. With many physicians retiring and rural populations aging\, telemedicine is now a necessity for marginalized groups. Cost-effective AI tools and scalable technology can turn health care challenges into opportunities for wider and more equitable access. The future of health care depends on integrating advanced technologies with compassionate care. \nPermanente speaker \n\nNolan Chang\, MD\, executive vice president\, Strategy\, Corporate Development\, and Finance\, The Permanente Federation\n\nModerator \n\nMargaret Malone\, principal\, Flare Capital Partners\n\nOther speakers \n\nDave Newman\, MD\, chief medical officer of Virtual Care\, Sanford Health\n\n\nPanel\nPopulation Health\, Quality Management\, and the Value-Based Care Imperative\nFebruary 17\, 12 p.m. CST\n209 ABC – Level 2 \nEffective population health management and quality improvement are essential in the shift to value-based care. This panel will discuss innovative strategies to optimize care\, enhance patient outcomes\, and improve efficiency. Experts will explain how using the CPT (Current Procedural Terminology) code set helps identify patients for targeted interventions and supports payer quality improvement efforts. Join this session for practical insights on advancing health and quality management in today’s evolving health care landscape. \nPermanente speaker \n\nStephen Parodi\, MD\, executive vice president\, External Affairs\, Communications and Brand\, The Permanente Federation\n\nModerator \n\nMichael Suk\, MD\, chair\, AMA Board of Trustees (To be confirmed)\n\nOther speakers \n\nLori Prestesater\, senior vice president\, American Medical Association\nJared Augenstein\, managing director\, Manatt Health\n\nEvent website
URL:https://permanente.org/event/vive-2025/
LOCATION:Nashville Music City Center
END:VEVENT
BEGIN:VEVENT
DTSTART;TZID=America/Los_Angeles:20250225T111500
DTEND;TZID=America/Los_Angeles:20250228T120000
DTSTAMP:20260420T035231
CREATED:20250207T035506Z
LAST-MODIFIED:20250228T160854Z
UID:7463-1740482100-1740744000@permanente.org
SUMMARY:The Fourth Virtual Value-Based Payment Summit Special Edition
DESCRIPTION:The Fourth Virtual Value-Based Payment Summit Special Edition is a virtual conference focused on the latest developments in value-based payment models within the health care industry. It takes place during Health Care Value Week\, an annual event where health care stakeholders\, leaders\, and government officials discuss and promote the advancement of value-based care approaches that prioritize patient health outcomes over the quantity of medical visits. Awareness is created through virtual events\, social media campaigns\, and discussions with policymakers on Capitol Hill. \nEvent website \n  \nPanels\nHealth Care Transformation Task Force Presents: Integrating Oncology Into Value-Based Care\nFebruary 25\, 11:15 a.m. PT \nPermanente Speaker \n\nTatjana Kolevska\, MD\, chair\, Kaiser Permanente Northern California Oncology and Hematology; medical director\, Kaiser Permanente National Cancer Excellence Program\, Mill Valley\, CA\n\n  \nOther Speakers \n\nAndrew Hertler\, MD\, ACP\, chief medical officer\, Evolent; chief medical officer\, New Century Health\, Brea\, CA \nAnthony P. Lam\, MD\, MHS\, chief medical officer\, OPN Healthcare\, Glendale\, CA \n(Moderator) Theresa Dreyer\, MPH\, interim executive director\, Health Care Transformation Task Force; former senior manager\, Value Based Care\, Association of American Medical Colleges\, Washington\, D.C. \n\n\nThe AMA\, AHIP & NAACOS Playbook with Recommendations Toward a Sustainable Future for Value-Based Payment\nFebruary 28\, 10 a.m. PT \nPermanente Speaker \n\nStephen Parodi\, MD\, executive vice president\, The Permanente Medical Group and The Permanente Federation\, San Francisco\n\n  \nOther Speakers \n\nTravis Broome\, MPA\, MPH\, senior vice president for Policy and Economics\, Aledade; former team lead for Policy and Oversight\, Centers for Medicare and Medicaid Services\, Ashville\, N.C. \nElyse Pegler\, MPH\, lead director\, National Value-based Care\, Aetna\, a CVS Business; former member\, Patient Care Models Group\, Centers for Medicare and Medicaid Services\, Rockville\, MD\n(Moderator) Carol Vargo\, MHS\, vice president\, Physician Practice Sustainability\, The American Medical Association; former legislative assistant\, US Representative Jim McDermott (WA)\, Washington\, D.C.\n\n 
URL:https://permanente.org/event/the-fourth-virtual-value-based-payment-summit-special-edition/
LOCATION:Virtual Event
END:VEVENT
END:VCALENDAR