BEGIN:VCALENDAR
VERSION:2.0
PRODID:-//Permanente Medicine - ECPv6.15.14//NONSGML v1.0//EN
CALSCALE:GREGORIAN
METHOD:PUBLISH
X-WR-CALNAME:Permanente Medicine
X-ORIGINAL-URL:https://permanente.org
X-WR-CALDESC:Events for Permanente Medicine
REFRESH-INTERVAL;VALUE=DURATION:PT1H
X-Robots-Tag:noindex
X-PUBLISHED-TTL:PT1H
BEGIN:VTIMEZONE
TZID:America/Los_Angeles
BEGIN:DAYLIGHT
TZOFFSETFROM:-0800
TZOFFSETTO:-0700
TZNAME:PDT
DTSTART:20220313T100000
END:DAYLIGHT
BEGIN:STANDARD
TZOFFSETFROM:-0700
TZOFFSETTO:-0800
TZNAME:PST
DTSTART:20221106T090000
END:STANDARD
BEGIN:DAYLIGHT
TZOFFSETFROM:-0800
TZOFFSETTO:-0700
TZNAME:PDT
DTSTART:20230312T100000
END:DAYLIGHT
BEGIN:STANDARD
TZOFFSETFROM:-0700
TZOFFSETTO:-0800
TZNAME:PST
DTSTART:20231105T090000
END:STANDARD
BEGIN:DAYLIGHT
TZOFFSETFROM:-0800
TZOFFSETTO:-0700
TZNAME:PDT
DTSTART:20240310T100000
END:DAYLIGHT
BEGIN:STANDARD
TZOFFSETFROM:-0700
TZOFFSETTO:-0800
TZNAME:PST
DTSTART:20241103T090000
END:STANDARD
END:VTIMEZONE
BEGIN:VEVENT
DTSTART;TZID=America/Los_Angeles:20230316T110000
DTEND;TZID=America/Los_Angeles:20230316T113000
DTSTAMP:20260425T212848
CREATED:20230222T001044Z
LAST-MODIFIED:20230222T001044Z
UID:5650-1678964400-1678966200@permanente.org
SUMMARY:PermanenteDocs Chat on smart technology for health innovation
DESCRIPTION:Register to attend\n  \nWearable health devices and remote monitoring allow clinicians to follow the health of patients without having to come in for an office visit. Smart technology have been incorporated in programs such as Kaiser Permanente’s in-home cardiac rehabilitation program where care teams can monitor vital statistics such as blood pressure. In this PermanenteDocs Chat\, Tad Funahashi\, MD\, chief innovation and transformation officer at Kaiser Permanente in Southern California\, will share more about the in-home program and other promising use of remote monitoring technology. Register to watch live on March 16\, 2023\, Thursday\, at 11 a.m. PT/2 p.m. ET. \nGuest\n\nTad Funahashi\, MD\, orthopedic surgeon\, Southern California Permanente Medical Group; and chief innovation and transformation officer\, Kaiser Permanente Southern California.\n\nBy registering to attend\, you can join the Zoom recording and watch the 20-minute chat live to ask questions.
URL:https://permanente.org/event/permanentedocs-chat-on-smart-technology-for-health-innovation/
LOCATION:Zoom
END:VEVENT
BEGIN:VEVENT
DTSTART;TZID=America/Los_Angeles:20230329T093000
DTEND;TZID=America/Los_Angeles:20230329T100000
DTSTAMP:20260425T212848
CREATED:20230222T002927Z
LAST-MODIFIED:20230222T002927Z
UID:5653-1680082200-1680084000@permanente.org
SUMMARY:PermanenteDocs Chat on what it means to be a doctor today
DESCRIPTION:Register to attend\n  \nAhead of National Doctors Day\, we invite Kapil Dhingra\, MD\, to reflect on what it means to be a doctor in today’s post-pandemic state\, with the industry facing financial and labor challenges and clinicians and health care workers often dealing with hostilities from the public. Join Dr. Dhingra and Alex McDonald\, MD\, for this PermanenteDocs Chat on March 29\, 2023\, Wednesday\, at 9:30 a.m. PT/12:30 p.m. ET. \nGuest\n\nKapil Dhingra\, MD\, emergency medicine physician\, The Permanente Medical Group; and physician-in-chief\, Kaiser Permanente San Leandro. In 2019\, Dr. Dhingra was named one of Modern Healthcare’s 25 Emerging Leaders.\n\nBy registering to attend\, you can join the Zoom recording and watch the 20-minute chat live to ask questions.
URL:https://permanente.org/event/permanentedocs-chat-on-what-it-means-to-be-a-doctor-today/
LOCATION:Zoom
END:VEVENT
END:VCALENDAR