BEGIN:VCALENDAR
VERSION:2.0
PRODID:-//Permanente Medicine - ECPv6.15.14//NONSGML v1.0//EN
CALSCALE:GREGORIAN
METHOD:PUBLISH
X-WR-CALNAME:Permanente Medicine
X-ORIGINAL-URL:https://permanente.org
X-WR-CALDESC:Events for Permanente Medicine
REFRESH-INTERVAL;VALUE=DURATION:PT1H
X-Robots-Tag:noindex
X-PUBLISHED-TTL:PT1H
BEGIN:VTIMEZONE
TZID:America/Los_Angeles
BEGIN:DAYLIGHT
TZOFFSETFROM:-0800
TZOFFSETTO:-0700
TZNAME:PDT
DTSTART:20220313T100000
END:DAYLIGHT
BEGIN:STANDARD
TZOFFSETFROM:-0700
TZOFFSETTO:-0800
TZNAME:PST
DTSTART:20221106T090000
END:STANDARD
BEGIN:DAYLIGHT
TZOFFSETFROM:-0800
TZOFFSETTO:-0700
TZNAME:PDT
DTSTART:20230312T100000
END:DAYLIGHT
BEGIN:STANDARD
TZOFFSETFROM:-0700
TZOFFSETTO:-0800
TZNAME:PST
DTSTART:20231105T090000
END:STANDARD
BEGIN:DAYLIGHT
TZOFFSETFROM:-0800
TZOFFSETTO:-0700
TZNAME:PDT
DTSTART:20240310T100000
END:DAYLIGHT
BEGIN:STANDARD
TZOFFSETFROM:-0700
TZOFFSETTO:-0800
TZNAME:PST
DTSTART:20241103T090000
END:STANDARD
END:VTIMEZONE
BEGIN:VEVENT
DTSTART;TZID=America/Los_Angeles:20230113T133000
DTEND;TZID=America/Los_Angeles:20230113T140000
DTSTAMP:20260425T183631
CREATED:20230106T180334Z
LAST-MODIFIED:20230113T155230Z
UID:5550-1673616600-1673618400@permanente.org
SUMMARY:PermanenteDocs Chat on advancing Black physicians to improve health equity
DESCRIPTION:Register to attend\n  \nWith Martin Luther King Jr. Day around the corner\, the first PermanenteDocs Chat for the year looks at the experience of Fonda Mitchell\, MD\, as a Black female doctor and her journey that led her to her role as president of the Medical Association of Atlanta. Join this live chat with Dr. Mitchell and host Alex McDonald\, MD\, a family medicine physician\, on January 13\, 2023\, Friday\, from 1:30 p.m. PT/4:30 p.m. ET. \nGuest speaker\n\nFonda Mitchell\, MD\, obstetrician-gynecologist and physician director of Government Relations and Medical Associations\, The Southeast Permanente Medical Group; president\, Medical Association of Atlanta.
URL:https://permanente.org/event/permanentedocs-chat-on-advancing-black-physicians-to-improve-health-equity/
LOCATION:Zoom
END:VEVENT
BEGIN:VEVENT
DTSTART;TZID=America/Los_Angeles:20230126T114500
DTEND;TZID=America/Los_Angeles:20230126T122500
DTSTAMP:20260425T183631
CREATED:20221111T050341Z
LAST-MODIFIED:20221111T050341Z
UID:5445-1674733500-1674735900@permanente.org
SUMMARY:Future of Maternal Care Summit
DESCRIPTION:Virtual care and health care technology offer an opportunity to tackle many of the problems within maternal care. Integration of these health care approaches could solve a wealth of problems such as enabling equitable access to care\, providing more holistic care\, improving problems with patient engagement\, and enabling the shift of health care to a value-based model. At the Future of Maternal Care Summit on January 26\, Permanente physician leader Kari Carlson\, MD\, will speak on a panel “How Can Innovation in Virtual Care and Technology Change the Course for Maternal Care?” \nThis panel will discuss these technological and virtual innovations and their role in ensuring the future of maternal care is bright for all. Some of the key points of discussion include the following: \n\nHow can provider systems\, policy makers\, pharma\, and payers make use of the recent advances in technology to propel improvement in maternal health care outcomes?\nHow can virtual maternal care address the health care needs of individuals from traditionally underserved populations?\nHow can technology be used to help evaluate effective strategies in maternal care?\nWhat groups are at risk of being left out of virtual maternal care and how can we innovate around these populations?\nHow much are provider systems utilizing virtual care for maternal health\, how can we ensure virtual care is better implemented into health care systems?\n\nSpeakers\n\nKari Carlson\, MD\, associate executive director\, The Permanente Medical Group\nLayo George\, founder and CEO\, Wolomi\nChris Wasden\, chief strategy officer\, Twill\nEric Dy\, founder and CEO\, Bloomlife\nCrystal Adesanya\, founder and CEO\, Kiira Health
URL:https://permanente.org/event/future-of-maternal-care-summit/
END:VEVENT
END:VCALENDAR