BEGIN:VCALENDAR
VERSION:2.0
PRODID:-//Permanente Medicine - ECPv6.15.14//NONSGML v1.0//EN
CALSCALE:GREGORIAN
METHOD:PUBLISH
X-WR-CALNAME:Permanente Medicine
X-ORIGINAL-URL:https://permanente.org
X-WR-CALDESC:Events for Permanente Medicine
REFRESH-INTERVAL;VALUE=DURATION:PT1H
X-Robots-Tag:noindex
X-PUBLISHED-TTL:PT1H
BEGIN:VTIMEZONE
TZID:America/Los_Angeles
BEGIN:DAYLIGHT
TZOFFSETFROM:-0800
TZOFFSETTO:-0700
TZNAME:PDT
DTSTART:20210314T100000
END:DAYLIGHT
BEGIN:STANDARD
TZOFFSETFROM:-0700
TZOFFSETTO:-0800
TZNAME:PST
DTSTART:20211107T090000
END:STANDARD
BEGIN:DAYLIGHT
TZOFFSETFROM:-0800
TZOFFSETTO:-0700
TZNAME:PDT
DTSTART:20220313T100000
END:DAYLIGHT
BEGIN:STANDARD
TZOFFSETFROM:-0700
TZOFFSETTO:-0800
TZNAME:PST
DTSTART:20221106T090000
END:STANDARD
BEGIN:DAYLIGHT
TZOFFSETFROM:-0800
TZOFFSETTO:-0700
TZNAME:PDT
DTSTART:20230312T100000
END:DAYLIGHT
BEGIN:STANDARD
TZOFFSETFROM:-0700
TZOFFSETTO:-0800
TZNAME:PST
DTSTART:20231105T090000
END:STANDARD
END:VTIMEZONE
BEGIN:VTIMEZONE
TZID:America/New_York
BEGIN:DAYLIGHT
TZOFFSETFROM:-0500
TZOFFSETTO:-0400
TZNAME:EDT
DTSTART:20210314T070000
END:DAYLIGHT
BEGIN:STANDARD
TZOFFSETFROM:-0400
TZOFFSETTO:-0500
TZNAME:EST
DTSTART:20211107T060000
END:STANDARD
BEGIN:DAYLIGHT
TZOFFSETFROM:-0500
TZOFFSETTO:-0400
TZNAME:EDT
DTSTART:20220313T070000
END:DAYLIGHT
BEGIN:STANDARD
TZOFFSETFROM:-0400
TZOFFSETTO:-0500
TZNAME:EST
DTSTART:20221106T060000
END:STANDARD
BEGIN:DAYLIGHT
TZOFFSETFROM:-0500
TZOFFSETTO:-0400
TZNAME:EDT
DTSTART:20230312T070000
END:DAYLIGHT
BEGIN:STANDARD
TZOFFSETFROM:-0400
TZOFFSETTO:-0500
TZNAME:EST
DTSTART:20231105T060000
END:STANDARD
END:VTIMEZONE
BEGIN:VEVENT
DTSTART;TZID=America/Los_Angeles:20220802T121500
DTEND;TZID=America/Los_Angeles:20220802T124500
DTSTAMP:20260425T111450
CREATED:20220725T172529Z
LAST-MODIFIED:20220725T172529Z
UID:5151-1659442500-1659444300@permanente.org
SUMMARY:PermanenteDocs Chat: Staying in the game with sports medicine
DESCRIPTION:Register to attend \nSports medicine physicians at the Permanente Medical Groups focus on the whole athlete\, not just on physical conditions. In an environment where professional athletes are speaking out on mental health\, this PermanenteDocs Chat touches on the topic of helping athletes – professional and amateur – address their mental well-being. Join host Alex McDonald\, MD\, a family medicine physician with a specialty in sports medicine\, and fellow Permanente sports medicine physician Jason Brayley\, MD\, on Aug. 2\, 2022\, Tuesday\, at 12:15 p.m. PT/3:15 p.m. ET for a live Facebook chat. \nGuest\n\nJason Brayley\, MD\, medical director and chief of Sports Medicine\, The Permanente Medical Group. Dr. Brayley is also among the Permanente physicians on the medical team of the Sacramento Kings basketball team.\n\nFollow our Permanente Medicine Facebook page to know when we go live.
URL:https://permanente.org/event/permanentedocs-chat-staying-in-the-game-with-sports-medicine/
LOCATION:Facebook Live
END:VEVENT
BEGIN:VEVENT
DTSTART;TZID=America/New_York:20220804T110000
DTEND;TZID=America/New_York:20220804T120000
DTSTAMP:20260425T111450
CREATED:20220722T192843Z
LAST-MODIFIED:20220722T192921Z
UID:5141-1659610800-1659614400@permanente.org
SUMMARY:Reuters Events: Elevate your health data stewardship
DESCRIPTION:Fines and lost customers due to poor data security represent a significant financial risk for health care providers and services. This Reuters Events presentation looks at giving patients control over their health data and meeting their demands for improved digital experiences by providing better onboarding\, personalization\, omnichannel experiences\, and privacy controls. Health care organizations are striving to flexibly prevent data breaches while enabling the digital supply chain across the health care ecosystem. \nThis live panel discussion with WSO2 will decode data possibilities with customer identity and access management (CIAM) combined with comprehensive consent management to securely capture and manage all sources and forms of patient identity\, profile data\, and health data access: \n\nEnsure financial stability and drive return on investments with CIAM\nBuild patient trust through capturing patient and member consents for third-party applications\nReduce costs and loss of customers with a seamless patient experience that leads to deeper engagement\nProtect limited resources and funds through improved access to health data and patient insights\n\nSpeakers\n\nAndy Crowder\, chief information and analytics officer\, EmblemHealth\nEdward Lee\, MD\, executive vice president\, Information Technology\, and chief information officer\, The Permanente Federation\nSamantha Martinez\, assistant vice president\, Information Technology\, AdvantageCare Physicians/The EmblemHealth Family of Companies\nPablo Suarez\, chief technical officer\, WSO2
URL:https://permanente.org/event/reuters-events-elevate-your-health-data-stewardship/
LOCATION:Virtual Event
END:VEVENT
BEGIN:VEVENT
DTSTART;TZID=America/Los_Angeles:20220811T090000
DTEND;TZID=America/Los_Angeles:20220811T100000
DTSTAMP:20260425T111450
CREATED:20220803T185420Z
LAST-MODIFIED:20220803T185420Z
UID:5179-1660208400-1660212000@permanente.org
SUMMARY:Refueling Your Workforce: Strategies to Reduce Employee Burnout
DESCRIPTION:Burnout and stress are at all-time highs\, depleting workforce productivity and driving record attrition rates. Join the Health Action Alliance’s virtual workshop with leading experts in workplace burnout to identify causes and solutions to workplace burnout\, and refuel a thriving workforce. \nSpeakers\n\nRuth Chang\, MD\, chief people officer\, Northwest Permanente\nJacina Jimenez\, MD\, author\, “The Burnout Fix”\nNaomi Torres-Mackie\, MD\, clinical psychologist\, head of Research\, Mental Health Coalition\n\nRegister to attend
URL:https://permanente.org/event/refueling-your-workforce-strategies-to-reduce-employee-burnout/
LOCATION:Virtual and Washington\, D.C.
END:VEVENT
BEGIN:VEVENT
DTSTART;TZID=America/Los_Angeles:20220822T090000
DTEND;TZID=America/Los_Angeles:20220822T093000
DTSTAMP:20260425T111450
CREATED:20220725T172918Z
LAST-MODIFIED:20220725T234613Z
UID:5153-1661158800-1661160600@permanente.org
SUMMARY:PermanenteDocs Chat on healthy strategies for back to school
DESCRIPTION:Register to attend \nWith the availability of COVID vaccines for children 5 and under\, parents are wondering what vaccines they need to protect their children as they prepare for the new school year. Susanna Block\, MD\, joins a live PermanenteDocs Chat with Alex McDonald\, MD\, to discuss how physicians can help guide parents on deciding whether or not to get the COVID vaccine for their young children\, and other back-to-school issues to ensure they stay safe and healthy. Watch the chat on Facebook on Aug. 22\, 2022\, Monday\, at 9 a.m. PT/noon ET. \nGuest\n\nSusanna Block\, MD\, pediatrician\, Washington Permanente Medical Group\, practicing at the Kaiser Permanente Capitol Hill Medical Center in Seattle.\n\nFollow our Permanente Medicine Facebook page to know when we go live.
URL:https://permanente.org/event/permanentedocs-chat-on-healthy-strategies-for-back-to-school/
LOCATION:Facebook Live
END:VEVENT
END:VCALENDAR